Workbook
Name catalogo: #REF!
Name catalogo: #REF!
Name catalogo: #REF!
Name catalogo: #REF!
Name catalogo: #REF!
Name catalogo: #REF!
Name catalogo: #REF!
Name catalogo: #REF!
Name catalogo: #REF!
Name catalogo: #REF!
Name CLIENTES: CLIENTES!$A$2:$C$72

Sheet Equipos en Stock_2015dic
A1: Código | B1: Descripción Corta | C1: Descripción Larga | D1: Componentes p/n | E1: Descripción | F1: Proveedor | G1: PC Individual | H1: PC Global | I1: PV Global | J1: Margen | K1: Comentarios | L1: Nivel en D38 | M1: Nivel en MAD | N1: Nivel en Puj | O1: Coberura (días) | Q1: MAQUETA
A2: 6000171 | B2: PORTATIL SURFACE PRO3 RAM4 128GB SSD I5 | C2: CX4-00012 Microsoft Surface Pro 3 - Tableta - sin teclado - Core i5 4300U / 1.9 GHz -Windows 8.1 Pro 64-bit - 4 GB RAM - 128 GB SSD - 12" pantalla táctil 2160 x 1440 ( Full HD Plus ) - Intel HD Graphics 4400 - Wi-Fi - plata, Microsoft Surface Type Cover 3 azul | D2: CX4-00012 | E2: Microsoft Surface Pro 3 - Tableta - sin teclado - Core i5 4300U / 1.9 GHz - Windows 8.1 Pro 64-bit - 4 GB RAM - 128 GB SSD - 12" pantalla táctil 2160 x 1440 ( Full HD Plus ) - Intel HD Graphics 4400 - Wi-Fi - plata | F2: MICROSOFT | G2: 962.87 | H2: =+SUM(G2:G3) -> 1060.94 | I2: =+VLOOKUP(A2,#REF!,6,0) -> #REF! | J2: =+(I2-H2)/I2 -> #REF! | L2: 2 | M2: 2 | N2: 2 | O2: 30
D3: CONF Surface | E3: Microsoft Surface Type Cover 3 azul | F3: MICROSOFT | G3: 98.07
A4: 6000188 | B4: PORTATIL SURFACE PRO3 RAM4 128GB SSD I7 | C4: Microsoft Surface Pro 3 - Tableta - sin teclado - Core i7 4650U / 1.7 GHz - Windows 8.1 Pro 64-bit - 8 GB RAM - 512 GB SSD - 12" pantalla táctil 2160 x 1440 ( Full HD Plus ) - Intel HD Graphics 5000 - Wi-Fi - plata, Microsoft Surface Type Cover 3 azul | D4: QH2-00001 | E4: Microsoft Surface Pro 3 - Tableta - sin teclado - Core i7 4650U / 1.7 GHz - Windows 8.1 Pro 64-bit - 8 GB RAM - 512 GB SSD - 12" pantalla táctil 2160 x 1440 ( Full HD Plus ) - Intel HD Graphics 5000 - Wi-Fi - plata | F4: MICROSOFT | G4: 1549.24 | H4: =+SUM(G4:G5) -> 1647.31 | I4: =+VLOOKUP(A4,#REF!,6,0) -> #REF! | J4: =+(I4-H4)/I4 -> #REF! | L4: 1
D5: CONF Surface | E5: Microsoft Surface Type Cover 3 azul | F5: MICROSOFT | G5: 98.07
A6: 6000173 | B6: Portatil Elitebook 840 G2 - ESTANDAR | C6: G8R97AV HP IDS UMA i5-5200U 840 NB,MW7 Pro 64w/MW8.1 Pro Lic SP,3y Bat Warranty Card,Core i5-14 BLU Label,65 Watt Smart nPFC 3 pin RC AC Adapter,3Cell 50WHr Long Life,500GB 7200RPM,4GB 1600MHz DDR3L 1DM,Intel 7265AN abgn 2x2+Bluetooth4.0,HP hs3110 HSPA+ w/GPS Huawei MU736,WEBCAM Integrated 720pHD,3/3/0 Warranty EURO,Dual Point SP,C5 1.8m Power Cord SP,14'' LED HD SVA Anti-Glare enabled for Webcam (1366x768),No Service Provider EMEA,eStar PCID Module,HP Deliv SVC Door/Dock NB,HP Business Slim Top Load Case | D6: G8R97AV | E6: HP IDS UMA i5-5200U 840 Base NB PC, Microsoft Windows 7 Pro 64 w/Microsoft Windows 8.1 Pro Lic SP, 3 year Battery Warranty Card, NO vPro AMT supported Feature, Core i5-14 BLU Label, 65 Watt Smart nPFC 3 pin RC AC Adapter, 3 Cell 50 WHr Long Life, 500GB 7200RPM, 4GB 1600MHz DDR3L 1DM, Intel 7265AN abgn 2x2 +Bluetooth 4.0 LE WW, HP hs3110 HSPA+ w/GPS Huawei MU736, Win8.1 Driver DVD, No Flash, WEBCAM Integrated 720p HD, No Fingerprint Reader, 3/3/0 Warranty EURO, Country Localization SP, Dual Point SP, No Near Field Communication, C5 1.8m Power Cord SP, 14 inch LED HD SVA Anti-Glare enabled for Webcam (1366x768), No Service Provider EMEA, eStar PCID Module, HP Deliv SVC Door/Dock NB, HP Business Slim Top Load Case H5M91AA | F6: HP | G6: 680 | H6: 680 | I6: 819.28 | J6: =+(I6-H6)/I6 -> 0.17000293 | L6: 10 | M6: 5 | N6: 3 | O6: 30 | Q6: si
A7: 6000174 | B7: Portatil Probook 650 15'' G1 - ESTANDAR | C7: Portatil Probook 650 15'' G1, HP IDS UMA HM87 fWWAN 650 BNBPC, Win 7 Professional 64, Intel Core i5-4200M Dual Core, WEBCAM Integrated 720p HD, 15.6 LED HD SVA AG f/WWAN f/CAM flat, 4GB 1600MHz DDR3L1DM, 320GB 7200RPM, No Optical Disc Drive 650, No Flash, No Modem, Broadcom 943228 abgn 2x2 +BT 4.0 LEWW650, No Fingerprint Reader, 6 Cell 55 WHr, 65 Watt Smart nPFC AC Adapter, 1/1/0 Warranty, CONF HP hs3110 HSPA+ w/GPS Huawei MU736 MÓDULO 3G, KB428AV HP Value Nylon Case | D7: D9S33AV | E7: D9S33AV Portatil Probook 650 15'' G1 | F7: HP | G7: 595 | H7: =+SUM(G7:G9) -> 661.3 | I7: 793.53 | J7: =+(I7-H7)/I7 -> 0.16663516 | L7: 1 | P7: Aún stock en Inforein 1 ud
D8: KB428AV | E8: KB428AV HP Value Nylon Case | F8: HP | G8: 15.71 | P8: 7 unidades
B9: #N/A | D9: CONF26 | E9: CONF HP hs3110 HSPA+ w/GPS Huawei MU736 MÓDULO 3G | F9: HP | G9: 50.59
A10: 6000187 | B10: Mobile Workstation Zbook 17 - ESTANDAR | C10: 19091673Portatil HP Mobile Workstation Zbook 17, HP IDS DSC 2DIMM 17 Base NB PC, W7 Prof64, NVIDIA Quadro K1100M Graphics,Intel Core i7-4610M Dual Core, WEBCAM 720p HD, 17.3'' LED HD+ SVA Anti-Glare enabled for Webcam (1600x900), 8GB 1600MHz DDR3 1DM, 500GB 7200RPM, DVD+/-RW SuperMulti DL, Intel 7260 abgn 2x2 +Bluetooth 4.0 LE WW,8 Cell 83 WHr, Dual Point Backlit with numeric keypad, 3/3/0 Warranty, lt4112 HP lt4112 LTE HSPA+ Gobi 4G w/GPS Huawei ME906E (MODULO 3G), Professional Slim Top Load Case | D10: 19091673 | E10: Portátil HP Mobile Workstation Zbook 17, HP IDS DSC 2DIMM 17 Base NB PC, W7 Professional 64, NVIDIA Quadro K1100M Graphics,Intel Core i7-4610M Dual Core, WEBCAM 720p HD, 17.3 inch LED HD+ SVA Anti-Glare enabled for Webcam (1600x900), 8GB 1600MHz DDR3 1DM, 500GB 7200RPM, DVD+/-RW SuperMulti DL, Intel 7260 abgn 2x2 +Bluetooth 4.0 LE WW, No WWAN (NO 3G), 8 Cell 83 WHr, Dual Point Backlit with numeric keypad, 3/3/0 Warranty | F10: HP | G10: 1435.81 | H10: =+SUM(G10:G12) -> 1532.24 | I10: 1795.12 | J10: =+(I10-H10)/I10 -> 0.14644146 | L10: 1 | O10: 30 | Q10: si
B11: #N/A | D11: lt4112 | E11: LTE HSPA+ Gobi 4G w/GPS Huawei ME906E (MODULO 3G) | F11: HP | G11: 72.17
D12: MALETIN | E12: Professional Slim Top Load Case | F12: HP | G12: 24.26
A13: 6000175 | B13: Workstation Z440 tarjeta Dual - ESTANDAR | C13: F5W13AV Portatil HP Mobile Workstation Zbook 17, HP IDS DSC 2DIMM 17 Base NB PC, W7 Professional 64, NVIDIA Quadro K1100M Graphics,Intel Core i7-4610M Dual Core, WEBCAM 720p HD, 17.3 inch LED HD+ SVA Anti-Glare enabled for Webcam (1600x900), 8GB 1600MHz DDR3 1DM, 500GB 7200RPM, DVD+/-RW SuperMulti DL, Intel 7260 abgn 2x2 +Bluetooth 4.0 LE WW, No WWAN (NO 3G), 8 Cell 83 WHr, 3/3/0 Warranty, HD5450-SL-1G-BK Tarjeta grafica dual Radeon HD 5450, 1GB DDR3, PCI Express 2.1 x16-DVI, D-Sub, HDMI | D13: F5W13AV | E13: HP Z440 Workstation, Windows 8.1 Pro 64 downgrade to Windows 7 Pro 64 NRL, Windows 7 Professional 64-bit OS DVD + Driver DVD NRL, HP Chassis Tagging SN+MAC1+UUID service, HP Z440 Country Kit EUROA4, 9.5mm Slim SuperMulti DVDRW 1st ODD, HP 3/3/3 Warranty EURO, HP Z440 700W 90 Percent Efficient Chassis, HP USB Keyboard SWE, HP USB Optical Mouse, HP Single Unit Packaging, 8GB DDR4-2133 (2x4GB) RegRAM, HP Processor Air Cooling Kit, NVIDIA Quadro K620 2GB DL-DVI(I)+DP 1st No cables included Graphics, 500GB 7200 RPM SATA 1st Hard Drive, Intel Xeon E5-1620v3 3.50GHz 10MB 2133 4C CPU, Operating System Load to SATA/SAS, HP 3 year Next business day Onsite Optional Customer Self Repair, Desktop/Workstation Only HW Service, HP Chassis Tagging SN+MAC1+UUID Service, Door/dock delivery workstations ZD081AA | F13: HP | G13: 1126.49 | H13: =+SUM(G13:G14) -> 1162.14 | I13: 1449.37 | J13: =+(I13-H13)/I13 -> 0.19817576 | L13: 1 | O13: 30 | Q13: si
D14: HD5450-SL-1G-BK | E14: Tarjeta gráfica dual Radeon HD 5450, 1GB DDR3, PCI Express 2.1 x16-DVI, D-Sub, HDMI | F14: RADEON | G14: 35.65
A15: 6000176 | B15: PC 600SFF G1 - ESTANDAR | C15: C8T89AV 600SFF G1 (SOBREMESA) / Windows 7 Professional 64bit OS, Intel Core i5-4570 3.2G 6M HD 4600 CPU, 4GB DDR3-1600 DIMM (1x4GB) RAM, 500GB 7200 RPM 3.5 HDD, HP USB Keyboard - Win, HP USB Mouse, No Included Slim SFF ODD (no cd), 3/3/3 SFF Warranty. | D15: C8T89AV | E15: 600SFF G1 (SOBREMESA) / Windows 7 Professional 64bit OS, Intel Core i5-4570 3.2G 6M HD 4600 CPU, 4GB DDR3-1600 DIMM (1x4GB) RAM, 500GB 7200 RPM 3.5 HDD, HP USB Keyboard - Win, HP USB Mouse, No Included Slim SFF ODD (no cd), 3/3/3 SFF Warranty. | F15: HP | G15: 492 | H15: =+G15 -> 492 | I15: 630.77 | J15: =+(I15-H15)/I15 -> 0.22000095 | L15: 15 | M15: 10 | N15: 6 | O15: 30-15 | P15: Aún stock en Inforein 21 ud | Q15: si
A16: 6000177 | B16: PC 600TWR G1 - ESTANDAR | C16: C8T90AV 600TWR G1 (TORRE) / Windows 7 Professional 64bit OS, Intel Core i5-4570 3.2G 6M HD 4600 CPU, 4GB DDR3-1600 DIMM (1x4GB) RAM, 500GB 7200 RPM 3.5 HDD, HP USB Keyboard - Win, HP USB Mouse, No Included Slim SFF ODD (no cd), 3/3/3 SFF Warranty. | D16: C8T90AV | E16: 600TWR G1 (TORRE) / Windows 7 Professional 64bit OS, Intel Core i5-4570 3.2G 6M HD 4600 CPU, 4GB DDR3-1600 DIMM (1x4GB) RAM, 500GB 7200 RPM 3.5 HDD, HP USB Keyboard - Win, HP USB Mouse, No Included Slim SFF ODD (no cd), 3/3/3 SFF Warranty. | F16: HP | G16: 499 | H16: =+G16 -> 499 | I16: 639.74 | J16: =+(I16-H16)/I16 -> 0.21999562 | N16: 2 | O16: 15 | P16: Aún stock en Inforein 1 ud | Q16: si
A17: 6000179 | B17: Estacion conexion GigE para Surface PRO3 | C17: 3QM-00006 Microsoft - Estación de conexion - GigE - para Surface Pro 3 | D17: 3QM-00006 | E17: Microsoft - Estación de conexión - GigE - para Surface Pro 3 | F17: MICROSOFT | G17: 153.56 | H17: =+G17 -> 153.56 | I17: 185.01 | J17: =+(I17-H17)/I17 -> 0.16999081 | K17: En el D38 no se instalan las dockings para la SURFACE i5 | L17: 2 | M17: 2
A18: 6000181 | B18: DOCKING Y CABLE Port. Elitebook 840 G2 | C18: D9Y32AA#ABB HP 2013 UltraSlim Docking Station, AU656AA#AC3 HP Docking Station Cable Lock | D18: D9Y32AA#ABB | E18: D9Y32AA#ABB HP 2013 UltraSlim Docking Station | F18: HP | G18: 119 | H18: =+SUM(G18:G19) -> 152.73 | I18: 182.71 | J18: =+(I18-H18)/I18 -> 0.16408516 | L18: 8 | M18: 3 | N18: 3 | O18: 30
B19: #N/A | D19: AU656AA#AC3 | E19: HP Docking Station Cable Lock | F19: HP | G19: 33.73
A20: 6000184 | B20: Teclado con cable USB | C20: QY776AA Teclado con cable USB HP | D20: QY776AA | E20: QY776AA Teclado con cable USB HP | F20: HP | G20: 14 | H20: =+G20 -> 14 | I20: 15.91 | J20: =+(I20-H20)/I20 -> 0.12005028 | L20: 15 | M20: 10 | O20: 30
A21: 6000185 | B21: Mouse con cable USB | C21: QY777AA Raton optico con cable USB HP con rueda de desplazamiento | D21: QY777AA | E21: QY777AA Ratón óptico con cable USB HP con rueda de desplazamiento | F21: HP | G21: 8 | H21: =+G21 -> 8 | I21: 9.09 | J21: =+(I21-H21)/I21 -> 0.11991199 | L21: 25 | M21: 15 | O21: 30
A22: 6000186 | B22: Monitor EliteDisplay E232 23'' LED | C22: M1N98AA#ABB Monitor Display size (diagonal) 23'' (509,184 x 286,416 mm), 1 VGA; 1 HDMI (compatible con HDCP); 1 DisplayPort 1.2 (compatible con HDCP), 3 puertos USB 2.0 (dos descendentes y uno ascendente) | D22: C9V75AA#ABB | E22: M1N98AA#ABB Monitor Display size (diagonal) 23'' (509,184 x 286,416 mm), 1 VGA; 1 HDMI (compatible con HDCP); 1 DisplayPort 1.2 (compatible con HDCP), 3 puertos USB 2.0 (dos descendentes y uno ascendente) | F22: HP | G22: 156 | H22: =+G22 -> 156 | I22: 190.24 | J22: =+(I22-H22)/I22 -> 0.17998318 | K22: Monitor diferente del S231d que se ha colocado en el D38 | L22: 13 | M22: 8 | N22: 2 | O22: 30
A23: 6000182 | B23: Monitor Dock EliteDisplay S231 23'' LED | C23: HP EliteDisplay S231d 23'' IPS LED Notebook Docking Monitor | D23: F3J72AA#ABB | E23: HP EliteDisplay S231d 23'' IPS LED Notebook Docking Monitor ,1 VGA; 1 DisplayPort 1.2, 2 USB 2.0; 3 USB 3.0 (one upstream, two downstream); 1 audio; 1 headphone/line-out; 1 RJ-45 | F23: HP | G23: 243 | H23: =+G23 -> 243 | I23: 296.34 | J23: =+(I23-H23)/I23 -> 0.17999595 | L23: 2 | M23: 2

Sheet LOTE Surfaces 
A1: DESCRIPCION | B1: PERFIL (a borrar en futuro) Directivo, Intermedio Administrativo/Tecnicos | C1: PRECIO SALIDA | D1: UDS. REFERENCIA | E1: IMPORTE TOTAL REFERENCIA | F1: EQUIPO CON CRITERIO VALORABLE AMPLIACION GARANTIA | G1: PROVEEDOR - PRECIO UNITARIO OFERTADO
A2: Portátil tipo SURFACE o equivalente gama media Core I5 8th generation Windows 10 Pro - 8 GB RAM - 256 GB SSD - 12" pantalla táctil 1920 x 1280. - Wi-Fi + LTE. Cubierta - Teclado Detachable - Español - Silver. Peso máximo sin teclado 1000 grs. | C2: 1199.34 | D2: 57 | E2: =C2*D2 -> 68362.38 | F2: SI | G2: ="-" -> - | H2: Directivo
A3: Portátil tipo SURFACE o equivalente gama entrada Core M3 8th generation Windows 10 Pro - 8 GB RAM - 128 GB SSD - 12" pantalla táctil 1920 x 1280. - Wi-Fi + LTE. Cubierta - Teclado Detachable - Español - Silver. Peso máximo sin teclado 1000 grs. | C3: 1194.42 | D3: 30 | E3: =C3*D3 -> 35832.6 | F3: SI | G3: ="-" -> - | H3: Intermedio
A4: Portátil tipo SURFACE Core I7 8th generation Windows 10 Pro - 16 GB RAM - 512 GB SSD - 12.3" pantalla táctil 2736 x 1824 - Intel Iris Graphics - Wi-Fi + LTE + Microsoft Surface Pro 4 Type Cover - Teclado - Español | C4: 2054.5 | D4: 3 | E4: =C4*D4 -> 6163.5 | F4: SI | G4: ="-" -> - | H4: Administrativo/Tecnicos
A5: Estación conexión para Portátil tipo SURFACE o equivalente | C5: 152.14 | D5: 25 | E5: =C5*D5 -> 3803.5 | F5: SI | G5: ="-" -> -
A6: POWER SUPPLY ADICIONAL para portátil tipo SURFACE o equivalente | C6: 60.8 | D6: 43 | E6: =C6*D6 -> 2614.4 | F6: NO | G6: ="-" -> -
A7: Maquetación Servicio para cambiar el SO de fábrica por S.O. adaptados a la Red Corporativa de SUEZ Spain. La imagen la generará SUEZ Spain mediante SCCM. El licitador aportará los medios materiales (discos usb o similar) y humanos para realizar el cambio del sistema en sus dependencias y previo al envío. | C7: 54 | D7: 67 | E7: =C7*D7 -> 3618 | F7: NO | G7: ="-" -> -
A8: Retirada Colectiva Recogida según propuesta del licitador de equipos de la tipología de este lote, de forma regular, procediendo a custodiarlos durante el tiempo que se fije (un mes a priori) y posteriormente realizar el borrado confidencial de la información según procedimento que se indique. Se deberá aportar el destino certificado de los equipos a fines de interés social. El mínimo equipos a solicitar a retirar es de 5 equipos. | C8: 30 | D8: 20 | E8: =C8*D8 -> 600 | F8: NO | G8: ="-" -> -
A9: Servicio Express Entrega Peninsula y Baleares Entrega Next Business Day antes de las 10.00 AM de un dispositivo cuando así se requiera por el peticionario. | C9: 35 | D9: 9 | E9: =C9*D9 -> 315 | F9: NO | G9: ="-" -> -
A10: Servicio Express Entrega Canarias Entrega en 24 Horas de un dispositivo cuando así se requiera por el peticionario. | C10: 40 | D10: 2 | E10: =C10*D10 -> 80 | F10: NO | G10: ="-" -> -
C12: IMPORTE ESTIMADO | E12: =SUM(E1:E10) -> 121389.38

Sheet LOTE 2 Perifericos
A1: DESCRIPCION | B1: PERFIL (a borrar en futuro) Directivo, Intermedio Administrativo/Tecnicos | C1: PRECIO SALIDA | D1: UDS. REFERENCIA | E1: IMPORTE TOTAL REFERENCIA | F1: EQUIPO CON CRITERIO VALORABLE AMPLIACION GARANTIA | G1: PROVEEDOR - PRECIO UNITARIO OFERTADO
A2: Impresora Laser color Dúplex A4 20ppm | C2: 373.75 | D2: 4 | E2: =C2*D2 -> 1495 | F2: SI | G2: ="-" -> - | H2: Directivo
A3: Impresora Puesto. Laser b/n A4 35ppm duplex +red | C3: 222.69 | D3: =11+2 -> 13 | E3: =C3*D3 -> 2894.97 | F3: SI | G3: ="-" -> - | H3: Intermedio
A4: Impresora Multifunción b/n Dúplex A4 28ppm | C4: 353.6 | D4: 10 | E4: =C4*D4 -> 3536 | F4: SI | G4: ="-" -> - | H4: Administrativo/Tecnicos
A5: Impresora gama media. Laser b/n A4 40ppm duplex+red | C5: 353.08 | D5: 8 | E5: =C5*D5 -> 2824.64 | F5: SI | G5: ="-" -> -
A6: Imp. Multifunción color Dúplex A4 20ppm | C6: 563.5 | D6: 18 | E6: =C6*D6 -> 10143 | F6: SI | G6: ="-" -> -
A7: Multifunción gama media color Dúplex ADF A4 30ppm Cassette - Cop, escán, imp | C7: 1322.5 | D7: =13+5 -> 18 | E7: =C7*D7 -> 23805 | F7: SI | G7: ="-" -> -
A8: Multifunción gama alta color Dúplex ADF A3/A4 20ppm Cassette - Copiadora, escáner, impresora | C8: 2530 | D8: =11+2 -> 13 | E8: =C8*D8 -> 32890 | F8: SI | G8: ="-" -> -
A9: Escaner gama media Velocidad 60ppm/120 ipm en Color y en B¬N Alimentador automático (ADF) para 80 hojas, doble cara Tipo de sensor CCD color x3 Resolucion optica hasta 600 DPI Tamaño máximo de papel ISO A-Series:A4 USB 3.0 Compatiblildad TWAIN y ISIS.Creación de PDF con capacidad de búsqueda Capacidad de soportar múltiples formatos de papel (DNI, trípticos, escrituras, tarjetas visita,…) | C9: 1332.38 | D9: =9+13 -> 22 | E9: =C9*D9 -> 29312.36 | F9: SI | G9: ="-" -> -
A10: Escáner Puesto. Velocidad 25 ppm/ 50 ipm en Color y en B¬N Alimentador automatico de documetnos (ADF para 50 hojas,, escaneado a doble cara Sensor de imagen por contacto - Color CIS x1 Resolucions optica : 600x600 ppp USB 3.0 Compatiblildad TWAIN y ISIS.Creación de PDF con capacidad de búsqueda Capacidad de soportar múltiples formatos de papel (DNI, trípticos, escrituras, tarjetas visita,…) | C10: 392.74 | D10: 33 | E10: =C10*D10 -> 12960.42 | F10: SI | G10: ="-" -> -
A11: Instalación Colocación en destino, desembalaje y montaje de las partes si procede, conexión y comprobación de su correcto funcionamiento | C11: 30 | D11: 14 | E11: =C11*D11 -> 420 | F11: NO | G11: ="-" -> -
A12: Retirada Colectiva Recogida según propuesta del licitador de equipos de la tipología de este lote, de forma regular, procediendo a custodiarlos durante el tiempo que se fije (un mes a priori) . Se deberá aportar el destino certificado de los equipos a fines de interés social | C12: 20 | D12: 50 | E12: =C12*D12 -> 1000 | F12: NO | G12: ="-" -> -
A13: Servicio Express Entrega Peninsula y Baleares Entrega Next Business Day antes de las 10.00 AM de un dispositivo cuando así se requiera por el peticionario. | C13: 35 | D13: 14 | E13: =C13*D13 -> 490 | F13: NO | G13: ="-" -> -
A14: Servicio Express Entrega Canarias Entrega en 24 Horas de un dispositivo cuando así se requiera por el peticionario. | C14: 40 | D14: 4 | E14: =C14*D14 -> 160 | F14: NO | G14: ="-" -> -
C16: IMPORTE ESTIMADO | E16: =SUM(E1:E14) -> 121931.39

Sheet LOTE 4  IOS
A1: DESCRIPCION | B1: PERFIL (a borrar en futuro) Directivo, Intermedio Administrativo/Tecnicos | C1: PRECIO SALIDA | D1: UDS. REFERENCIA | E1: IMPORTE TOTAL REFERENCIA | F1: EQUIPO CON CRITERIO VALORABLE AMPLIACION GARANTIA | G1: PROVEEDOR - PRECIO UNITARIO OFERTADO
A2: Tablet IOS 10.2 " 128GB Wi-Fi + Cellular GRIS . Cargador y cable. DEP (Apple Business Manager) | B2: Administrativo/Tecnicos | C2: 457 | D2: 198 | E2: =C2*D2 -> 90486 | F2: SI | G2: ="-" -> - | H2: Directivo
A3: Funda Rugerizada para tablet IOS 9.7" Protección anticaídas desde 1.2 metros IP-55 contra suciedad, arena, lluvia y barro Botones de silicona para protección de los controles Acceso al escánner de huella Pie de apoyo integrado abierto/cerrado para escribir o leer | C3: 48.76 | D3: 99 | E3: =C3*D3 -> 4827.24 | F3: SI | G3: ="-" -> - | H3: Intermedio
A4: Tablet IOS 7.9" 128GB Wi-Fi + Cellular GRIS . Cargador y cable. DEP (Apple Business Manager) | B4: Administrativo/Tecnicos | C4: 458 | D4: 188 | E4: =C4*D4 -> 86104 | F4: SI | G4: ="-" -> - | H4: Administrativo/Tecnicos
A5: Funda Rugerizada para tablet IOS 7.9" Protección anticaídas desde 1.2 metros IP-55 contra suciedad, arena, lluvia y barro Botones de silicona para protección de los controles Acceso al escánner de huella Pie de apoyo integrado abierto/cerrado para escribir o leer | C5: 37.19 | D5: 94 | E5: =C5*D5 -> 3495.86 | F5: SI | G5: ="-" -> -
A6: Tablet IOS 11" 256 GB Wi-Fi + Cellular GRIS . Cargador y cable. DEP (Apple Business Manager) | B6: Directivo | C6: 854.62 | D6: 7 | E6: =C6*D6 -> 5982.34 | F6: SI | G6: ="-" -> -
A7: Apple Pencil 2ª generacion | B7: Directivo
A8: Smartphone IOS gama alta IOS 14 LTE Advanced (4G+), Procesador A13 Bionic arquitectura 64 bits. Resistente al agua y al polvo (IP68). Pantalla Super Retina XDR Pantalla OLED de 5.8'', HDR y True Tone . Wi-Fi 802.11 a/b/g/n/ac, dual-band, hotspot, Bluetooh 5.0. A-GPS, GLONASS, BDS, GALILEO,microlocalización iBeacon. Cámara dual de 12 Mpx ,Cámara frontal TrueDepth de 7 Mpx con modo Retrato. Memoria Interna: 256GB, 4GB RAM,Tarjeta NanoSIM,eSIM, DEP (Apple Business Manager) | B8: Directivo | C8: 1075.31 | D8: 14 | E8: =C8*D8 -> 15054.34 | F8: SI | G8: ="-" -> -
A9: Funda trasera para smartphone iOS gama alta tipo de gel de silicona o equivalente, color transparente. | B9: Directivo
A10: Smartphone IOS gama media IOS 14 LTE (4G), Procesador A13 Bionic arquitectura 64 bits, Resistente al agua y polvo (IP67) Pantalla Retina HD de 4.7'' y True Tone, Wi-Fi, Bluetooh 5.0, GPS. Cámara trasera de 12 Mpx, cámara frontal 12 Mpx. Memoria interna: 128GB, 3GB RAM. Tarjeta NanoSIM, eSIM, DEP (Apple Business Manager) | B10: Intermedio | C10: 427 | D10: 36 | E10: =C10*D10 -> 15372 | F10: SI | G10: ="-" -> -
A11: Funda trasera para smartphone iOS gama media tipo de gel de silicona o equivalente, color transparente. | B11: Intermedio
A12: Servicio Express Entrega Peninsula y Baleares Entrega Next Business Day antes de las 10.00 AM de un dispositivo cuando así se requiera por el peticionario. | C12: 35 | D12: 44 | E12: =C12*D12 -> 1540 | F12: NO | G12: ="-" -> -
A13: Servicio Express Entrega Canarias Entrega en 24 Horas de un dispositivo cuando así se requiera por el peticionario. | C13: 40 | D13: 11.075 | E13: =C13*D13 -> 443 | F13: NO | G13: ="-" -> -
A14: Retirada colectiva Recogida según propuesta del licitador de equipos de la tipología de este lote, de forma regular, procediendo a custodiarlos durante el tiempo que se fije (un mes a priori) y posteriormente realizar el borrado confidencial de la información según procedimento que se indique. Se deberá aportar el destino certificado de los equipos a fines de interés social. | C14: 30 | D14: 50 | E14: =C14*D14 -> 1500 | F14: NO | G14: ="-" -> -
A15: Posibilidad de incluir dispositivos "antiguos" iOS en Apple Business Manager Para los dispsitivos con 2 años de antigüedad y no más de 3 años, la posibilidad de incluirlos en el Apple Business Manager de SUEZ | D15: 300 ±
C16: IMPORTE ESTIMADO | E16: =SUM(E2:E14) -> 224804.78

Sheet LOTE 5 Android 
A1: DESCRIPCION | B1: PERFIL (a borrar en futuro) Directivo, Intermedio Administrativo/Tecnicos | C1: PRECIO SALIDA | D1: UDS. REFERENCIA | E1: IMPORTE TOTAL REFERENCIA | F1: EQUIPO CON CRITERIO VALORABLE AMPLIACION GARANTIA | G1: PROVEEDOR - PRECIO UNITARIO OFERTADO
A2: Smartphone Android gama Alta . Procesador Exynos 990 Octa-core (2.73 GHz, 2.6 GHz), 64-bits . Pantalla 6.2” Full Rectangle, dinamic AMOLED 2X, HDR+ . Bluetooth 5.0, USB 5.0, Wi-Fi, Wi-Fi Direct, GPS . Cámara 64Mpx trasera, 10MPx frontal . Memoria 8GB RAM, 128GB Almacenamiento interno, (microSD hasta 1TB) . NanoSIM, eSIM, Dual-SIM, NFC . EE (Samsung Enterprise Edition) | B2: Directivo | C2: 468 | D2: 161 | E2: =C2*D2 -> 75348 | F2: SI | G2: ="-" -> - | H2: Directivo
A3: Funda trasera para smartphone gama alta tipo de gel de silicona o equivalente, color transparente. | C3: 5 | D3: 81 | E3: =C3*D3 -> 405 | F3: NO | G3: ="-" -> - | H3: Intermedio
A4: Smartphone Android gama media . Procesador Octa-core 2.3 GHz, 64-bits . Pantalla 5.2”, Full Rectangle, FHD+ (2340 x 1080) Super AMOLED . Bluetooth 5.0, USB 5.0, Wi-Fi, Wi-Fi Direct,GPS . Cámara 25Mpx trasera, 8MPx frontal, Full HD . Memoria 4GB RAM, 128GB Almacenamiento interno (MicroSD hasta 512GB ) . NanoSim, Dual-SIM, NFC . EE (Samsung Enterprise Edition) | B4: Intermedio | C4: 288 | D4: 191 | E4: =C4*D4 -> 55008 | F4: SI | G4: ="-" -> - | H4: Administrativo/Tecnicos
A5: Funda trasera para smartphone gama media tipo de gel de silicona o equivalente, color transparente. | C5: 5 | D5: 96 | E5: =C5*D5 -> 480 | F5: NO | G5: ="-" -> -
A6: Smartphone Android gama entrada . Procesador Octa-core 1.9 GHz (Exynos) . Pantalla 5,2”, Full Rectangle, HD, Super AMOLED . Bluetooth 4.2, Wi-Fi 802.11 a/b/g/n/ac (2.4/5GHz), GPS . Cámara: 13Mpx trasera, 5Mpx frontal . Memoria; 2GB RAM, 32GB Almacenamiento interno (microSD hasta 512GB) . NanoSIM, Dual-SIM, NFC . EE (Samsung Enterprise Edition) | B6: Administrativo/Tecnicos | C6: 173 | D6: 815 | E6: =C6*D6 -> 140995 | F6: SI | G6: ="-" -> -
A7: Funda trasera para smartphone gama entrada tipo de gel de silicona o equivalente, color transparente. | C7: 5 | D7: 408 | E7: =C7*D7 -> 2040 | F7: NO | G7: ="-" -> -
A8: Tablet Android . Procesador Octa-core 2.7 GHz,1.7 GHz . Pantalla 8.0”, 1920 x 1200 (WUXGA), PLS TFT LCD . Wi-Fi 802.11 a/b/g/n/ac/ax (2.4/5GHz), HE80, MIMO . Cámara: 13Mpx trasera, 5Mpx frontal . Memoria; 4GB RAM, 64GB Almacenamiento interno (microSD hasta 1TB) . NanoSIM, NFC with EMV Level1, No battery Mode, DeX . IP68 Pen . Bateria 5,050mAh . EE (Samsung Enterprise Edition) | B8: Administrativo/Tecnicos | G8: -
A9: Servicio Express Entrega Peninsula y Baleares Entrega Next Business Day antes de las 10.00 AM de un dispositivo cuando así se requiera por el peticionario. | C9: 35 | D9: =SUM(D2+D4+D6)*0.1 -> 116.7 | E9: =C9*D9 -> 4084.5 | F9: NO | G9: ="-" -> -
A10: Servicio Express Entrega Canarias Entrega en 24 Horas de un dispositivo cuando así se requiera por el peticionario. | C10: 40 | D10: =SUM(D2+D4+D6)*0.1 -> 116.7 | E10: =C10*D10 -> 4668 | F10: NO | G10: ="-" -> -
A11: Retirada colectiva Recogida según propuesta del licitador de equipos de la tipología de este lote, de forma regular, procediendo a custodiarlos durante el tiempo que se fije (un mes a priori) y posteriormente realizar el borrado confidencial de la información según procedimento que se indique. Se deberá aportar el destino certificado de los equipos a fines de interés social. | C11: 30 | D11: 50 | E11: =C11*D11 -> 1500 | F11: NO | G11: ="-" -> -
C13: IMPORTE ESTIMADO | E13: =SUM(E1:E11) -> 284528.5

Sheet EQUIPOS IOS
A1: DESCRIPCION: TABLETS Y SMARTPHONES IOS, SUS ACCESORIOS Y SERVICIOS ASOCIADOS | B1: PRECIO UNITARIO SALIDA | C1: UNIDADES REFERENCIA | D1: IMPORTE TOTAL REFERENCIA | E1: EQUIPO CON CRITERIO VALORABLE AMPLIACION GARANTIA | F1: PROVEEDOR PRECIO UNITARIO OFERTADO | G1: PROVEEDOR SUBTOTAL OFERTADO
A2: Tablet IOS 10.2 " 128GB Wi-Fi + Cellular GRIS . Cargador y cable. DEP (Apple Business Manager) | B2: 500 | C2: 520 | D2: =B2*C2 -> 260000 | E2: SI | G2: =F2*C2 -> 0 | H2: =IF(F2>B2,"El precio unitario ofertado no puede ser superior al precio unitario de salida","")
A3: Funda Rugerizada para tablet IOS 10.2" Protección anticaídas desde 1.2 metros IP-55 contra suciedad, arena, lluvia y barro Botones de silicona para protección de los controles Acceso al escánner de huella Pie de apoyo integrado abierto/cerrado para escribir o leer | B3: 40.28 | C3: 200 | D3: =B3*C3 -> 8056 | E3: NO | G3: =F3*C3 -> 0 | H3: =IF(F3>B3,"El precio unitario ofertado no puede ser superior al precio unitario de salida","")
A4: Tablet IOS 7.9" 64GB Wi-Fi + Cellular GRIS . Cargador y cable. DEP (Apple Business Manager) | B4: 530 | C4: 15 | D4: =B4*C4 -> 7950 | E4: SI | G4: =F4*C4 -> 0 | H4: =IF(F4>B4,"El precio unitario ofertado no puede ser superior al precio unitario de salida","")
A5: Funda Rugerizada para tablet IOS 7.9" Protección anticaídas desde 1.2 metros IP-55 contra suciedad, arena, lluvia y barro Botones de silicona para protección de los controles Acceso al escánner de huella Pie de apoyo integrado abierto/cerrado para escribir o leer | B5: 31.33 | C5: 7.5 | D5: =B5*C5 -> 234.975 | E5: NO | G5: =F5*C5 -> 0 | H5: =IF(F5>B5,"El precio unitario ofertado no puede ser superior al precio unitario de salida","")
A6: Tablet IOS 11" 256 GB Wi-Fi + Cellular GRIS . Cargador y cable. DEP (Apple Business Manager) | B6: 880 | C6: 10 | D6: =B6*C6 -> 8800 | E6: SI | G6: =F6*C6 -> 0 | H6: =IF(F6>B6,"El precio unitario ofertado no puede ser superior al precio unitario de salida","")
A7: Apple Pencil 2ª generacion | B7: 135 | C7: 10 | D7: =B7*C7 -> 1350 | E7: NO | G7: =F7*C7 -> 0 | H7: =IF(F7>B7,"El precio unitario ofertado no puede ser superior al precio unitario de salida","")
A8: Smartphone IOS gama alta IOS 14 LTE Advanced (4G+), Procesador A14 Bionic arquitectura 64 bits. Resistente al agua y al polvo (IP68). Pantalla Super Retina XDR Pantalla OLED de 6,1'', HDR y True Tone . Wi-Fi 802.11 a/b/g/n/ac, dual-band, hotspot, 5G, Bluetooh 5.0. A-GPS, GLONASS, BDS, GALILEO,microlocalización iBeacon. Cámara dual de 12 Mpx ,Cámara frontal TrueDepth de 12 Mpx con modo Retrato. Memoria Interna: 256GB, 4GB RAM,Tarjeta NanoSIM,eSIM, DEP (Apple Business Manager) | B8: 1150 | C8: 12 | D8: =B8*C8 -> 13800 | E8: SI | G8: =F8*C8 -> 0 | H8: =IF(F8>B8,"El precio unitario ofertado no puede ser superior al precio unitario de salida","")
A9: Funda trasera para smartphone iOS gama alta tipo de gel de silicona o equivalente, color transparente. | B9: 5 | C9: 12 | D9: =B9*C9 -> 60 | E9: NO | G9: =F9*C9 -> 0 | H9: =IF(F9>B9,"El precio unitario ofertado no puede ser superior al precio unitario de salida","")
A10: Smartphone IOS gama media IOS 14 LTE (4G), Procesador A13 Bionic arquitectura 64 bits, Resistente al agua y polvo (IP67) Pantalla Retina HD de 4.7'' y True Tone, Wi-Fi, Bluetooh 5.0, GPS. Cámara trasera de 12 Mpx, cámara frontal 12 Mpx. Memoria interna: 128GB, 3GB RAM. Tarjeta NanoSIM, eSIM, DEP (Apple Business Manager) | B10: 440 | C10: 56 | D10: =B10*C10 -> 24640 | E10: SI | G10: =F10*C10 -> 0 | H10: =IF(F10>B10,"El precio unitario ofertado no puede ser superior al precio unitario de salida","")
A11: Funda trasera para smartphone iOS gama media tipo de gel de silicona o equivalente, color transparente. | B11: 5 | C11: 28 | D11: =B11*C11 -> 140 | E11: NO | G11: =F11*C11 -> 0 | H11: =IF(F11>B11,"El precio unitario ofertado no puede ser superior al precio unitario de salida","")
A12: Adaptador de corriente USB-C de 20W | B12: 25 | C12: 12 | D12: =B12*C12 -> 300 | E12: NO | G12: =F12*C12 -> 0 | H12: =IF(F12>B12,"El precio unitario ofertado no puede ser superior al precio unitario de salida","")
A13: Cable de USB-C a conector Lightning de 1 metro | B13: 25 | C13: 12 | D13: =B13*C13 -> 300 | E13: NO | G13: =F13*C13 -> 0 | H13: =IF(F13>B13,"El precio unitario ofertado no puede ser superior al precio unitario de salida","")
... A18: Servicio de Entrega en puntos específicos Entrega en ubicaciones de Peninsula, Baleares y Canarias diferentes a las ubicaciones de las Sedes Beneficiarias | B18: 9 | C18: 711.5 | D18: =B18*C18 -> 6403.5 | E18: NO | G18: =F18*C18 -> 0 | H18: =IF(F18>B18,"El precio unitario ofertado no puede ser superior al precio unitario de salida","")
C20: IMPORTE BASE LICITACIÓN | D20: =SUM(D2:D18) -> 338993.86 | F20: IMPORTE OFERTADO TOTAL | G20: =SUM(G2:G18) -> 0 | H20: =IF(G20>D20,"El importe ofertado total del Lote 4 no puede ser superior al Importe Base Licitacion Lote 4","")
A22: Las ofertas que presenten valores superiores a los indicados como importes máximos (precio unitario salida e importe base licitación) se rechazarán en su globalidad.
A23: El precio unitario ofertado no puede ser superior al precio unitario de salida.
A24: El licitador debe completar todos los ítems indicados. En caso de omisión de alguno de ellos, la propuesta presentada será rechazada en su globalidad.
A25: Se desestimarán tanto aquellas ofertas que contengan casillas en AZUL sin completar como aquellas en las que no quede explícitamente escrito el importe total ofertado.

Sheet LOTE 3 Otros
A1: DESCRIPCION | B1: PERFIL (a borrar en futuro) Directivo, Intermedio Administrativo/Tecnicos | C1: PRECIO SALIDA | D1: UDS. REFERENCIA | E1: IMPORTE TOTAL REFERENCIA | F1: EQUIPO CON CRITERIO VALORABLE AMPLIACION GARANTIA | G1: PROVEEDOR - PRECIO UNITARIO OFERTADO
A2: Auricular gama entrada biaural con micrófono, conexión USB-A, con certificado para uso de Microsoft Teams. | C2: 35 | D2: 57 | E2: =C2*D2 -> 1995 | F2: NO | G2: ="-" -> - | H2: Directivo
A3: Auricular gama media biaural con microfono, conexión USB-A y conexión de jack 3,5mm, certificado para uso de Microsoft Teams | C3: 69 | D3: 95 | E3: =C3*D3 -> 6555 | F3: NO | G3: ="-" -> - | H3: Intermedio
A4: Auricular gama media biaural con micrófono, conector a escoger entre USB-A o USB-C, conexión Bluetooth con certificado para uso de Microsoft Teams. | C4: 67 | D4: 40 | E4: =C4*D4 -> 2680 | F4: NO | G4: ="-" -> - | H4: Administrativo/Tecnicos
A5: Auricular gama alta monoaural con micrófono, conector a escoger entre USB-A o USB-C, tipo pinganillo, conexión Bluetooth con certificado para uso de Microsoft Teams. | C5: 110 | D5: 9 | E5: =C5*D5 -> 990 | F5: NO | G5: ="-" -> -
A6: Auricular monoaural para teléfono sobremesa CISCO, conexión RJ. Pack (Auricular + Cable de conexión). Compatibilidad con Cisco Jabber. | C6: 66 | D6: 45 | E6: =C6*D6 -> 2970 | F6: NO | G6: ="-" -> -
A7: Auricular monoaural para teléfono de sobremesa CISCO, conexión USB, RJ y Bluetooth - Oreja o diadema. Compatibilidad con Cisco Jabber. | C7: 199.95 | D7: 19 | E7: =C7*D7 -> 3799.05 | F7: NO | G7: ="-" -> -
A8: Altavoz mesa con conexión USB. Cobertura de audio 360º. Control de volumen y mute en el altavoz. Indicador nivel de batería. Audio de banda ancha. Batería interna. Con certificado para uso de Microsoft Teams. | C8: 69 | D8: 28 | E8: =C8*D8 -> 1932 | F8: NO | G8: ="-" -> -
A9: Disco duro externo USB 3.0 1Tb | C9: 64.36 | D9: 7 | E9: =C9*D9 -> 450.52 | F9: NO | G9: ="-" -> -
A10: Disco duro externo USB 3.0 3Tb | C10: 111.13 | D10: 2 | E10: =C10*D10 -> 222.26 | F10: NO | G10: ="-" -> -
A11: Disco duro externo USB 3.0 8 Tb | C11: 222.7 | D11: 6 | E11: =C11*D11 -> 1336.2 | F11: NO | G11: ="-" -> -
A12: Discos Duro SSD 2,5 512 Gb | C12: 200.89 | D12: 5 | E12: =C12*D12 -> 1004.45 | F12: NO | G12: ="-" -> -
A13: Memorias MODELO: 8G RAM | C13: 73.73 | D13: 95 | E13: =C13*D13 -> 7004.35 | F13: NO | G13: ="-" -> -
A14: WEBCAM USB PARA PC con certificado para uso de Microsoft Teams | C14: 23.12 | D14: 10 | E14: =C14*D14 -> 231.2 | F14: NO | G14: ="-" -> -
A15: Servicio Express Entrega Peninsula y Baleares Entrega Next Business Day antes de las 10.00 AM de un dispositivo cuando así se requiera por el peticionario. | C15: 35 | D15: 41 | E15: =C15*D15 -> 1435 | F15: NO | G15: ="-" -> -
A16: Servicio Express Entrega Canarias Entrega en 24 Horas de un dispositivo cuando así se requiera por el peticionario. | C16: 40 | D16: 10 | E16: =C16*D16 -> 400 | F16: NO | G16: ="-" -> -
C18: IMPORTE ESTIMADO | E18: =SUM(E2:E16) -> 33005.03

Sheet Estim LOTE 4  IOS Old
A1: DESCRIPCION DE ARTICULO | B1: PERFIL (a borrar en futuro) Directivo, Intermedio Administrativo/Tecnicos | C1: PRECIO SALIDA lic hw 2018 | D1: Precio Licitacion Vigente | E1: PVP Prov 1 | F1: PVP Prov 2 | G1: PRECIO SALIDA Lic HW 2020 | H1: UDS. REFERENCIA | I1: IMPORTE TOTAL REFERENCIA | J1: ARTÍCULO CON CRITERIO VALORABLE AMPLIACION GARANTIA | K1: PROVEEDOR - PRECIO UNITARIO OFERTADO
A2: Tablet IOS 10.2 " 128GB Wi-Fi + Cellular GRIS . Cargador y cable. DEP (Apple Business Manager) | B2: Administrativo/Tecnicos | C2: 457 | D2: 436.05 | G2: 440 | H2: 350 | I2: =G2*H2 -> 154000 | J2: SI | K2: ="-" -> -
A3: Funda Rugerizada para tablet IOS 9.7" Protección anticaídas desde 1.2 metros IP-55 contra suciedad, arena, lluvia y barro Botones de silicona para protección de los controles Acceso al escánner de huella Pie de apoyo integrado abierto/cerrado para escribir o leer | C3: 48.76 | D3: 40.28 | G3: 45 | H3: =H2*0.5 -> 175 | I3: =G3*H3 -> 7875 | J3: SI | K3: ="-" -> -
A4: Tablet IOS 7.9" 128GB Wi-Fi + Cellular GRIS . Cargador y cable. DEP (Apple Business Manager) | B4: Administrativo/Tecnicos | C4: 458 | D4: 444.25 | G4: 450 | H4: 15 | I4: =G4*H4 -> 6750 | J4: SI | K4: ="-" -> -
A5: Funda Rugerizada para tablet IOS 7.9" Protección anticaídas desde 1.2 metros IP-55 contra suciedad, arena, lluvia y barro Botones de silicona para protección de los controles Acceso al escánner de huella Pie de apoyo integrado abierto/cerrado para escribir o leer | C5: 37.19 | D5: 31.33 | G5: 35 | H5: =H4*0.5 -> 7.5 | I5: =G5*H5 -> 262.5 | J5: SI | K5: ="-" -> -
A6: Tablet IOS 11" 256 GB Wi-Fi + Cellular GRIS . Cargador y cable. DEP (Apple Business Manager) | B6: Directivo | C6: 854.62 | D6: 832.72 | G6: 850 | H6: 10 | I6: =G6*H6 -> 8500 | J6: SI | K6: ="-" -> -
A7: Apple Pencil 2ª generacion | B7: Directivo | G7: 8 | H7: 10 | I7: =G7*H7 -> 80 | J7: SI
A8: Smartphone IOS gama alta IOS 14 LTE Advanced (4G+), Procesador A13 Bionic arquitectura 64 bits. Resistente al agua y al polvo (IP68). Pantalla Super Retina XDR Pantalla OLED de 5.8'', HDR y True Tone . Wi-Fi 802.11 a/b/g/n/ac, dual-band, hotspot, Bluetooh 5.0. A-GPS, GLONASS, BDS, GALILEO,microlocalización iBeacon. Cámara dual de 12 Mpx ,Cámara frontal TrueDepth de 7 Mpx con modo Retrato. Memoria Interna: 256GB, 4GB RAM,Tarjeta NanoSIM,eSIM, DEP (Apple Business Manager) | B8: Directivo | C8: 1075.31 | D8: 1038.03 | G8: 1100 | H8: 12 | I8: =G8*H8 -> 13200 | J8: SI | K8: ="-" -> -
A9: Funda trasera para smartphone iOS gama alta tipo de gel de silicona o equivalente, color transparente. | B9: Directivo | D9: 5 | G9: 5 | H9: 12 | I9: =G9*H9 -> 60 | J9: SI
A10: Smartphone IOS gama media IOS 14 LTE (4G), Procesador A13 Bionic arquitectura 64 bits, Resistente al agua y polvo (IP67) Pantalla Retina HD de 4.7'' y True Tone, Wi-Fi, Bluetooh 5.0, GPS. Cámara trasera de 12 Mpx, cámara frontal 12 Mpx. Memoria interna: 128GB, 3GB RAM. Tarjeta NanoSIM, eSIM, DEP (Apple Business Manager) | B10: Intermedio | C10: 427 | D10: 394 | G10: 400 | H10: 36 | I10: =G10*H10 -> 14400 | J10: SI | K10: ="-" -> -
A11: Funda trasera para smartphone iOS gama media tipo de gel de silicona o equivalente, color transparente. | B11: Intermedio | D11: 5 | G11: 5 | H11: =H10*0.5 -> 18 | I11: =G11*H11 -> 90 | J11: SI
A12: Servicio Express Entrega Peninsula y Baleares Entrega Next Business Day antes de las 10.00 AM de un dispositivo cuando así se requiera por el peticionario. | C12: 35 | G12: 35 | H12: =(H10+H8+H6+H4+H2)*0.05 -> 21.15 | I12: =G12*H12 -> 740.25 | J12: NO | K12: ="-" -> -
A13: Servicio Express Entrega Canarias Entrega en 24 Horas de un dispositivo cuando así se requiera por el peticionario. | C13: 40 | G13: 40 | H13: =(H10+H8+H6+H4+H2)*0.05 -> 21.15 | I13: =G13*H13 -> 846 | J13: NO | K13: ="-" -> -
A14: Retirada /reciclaje Recogida según propuesta del licitador de equipos de la tipología de este lote, de forma regular, procediendo a custodiarlos durante el tiempo que se fije (un mes a priori) y posteriormente realizar el borrado confidencial de la información según procedimento que se indique. Se deberá aportar el destino certificado de los equipos a fines de interés social. | C14: 30 | G14: 15 | H14: =(H10+H8+H6+H2+H4)*0.5 -> 211.5 | I14: =G14*H14 -> 3172.5 | J14: SI | K14: ="-" -> -
A15: Posibilidad de incluir dispositivos "antiguos" iOS en Apple Business Manager Para los dispsitivos con 2 años de antigüedad y no más de 3 años, la posibilidad de incluirlos en el Apple Business Manager de SUEZ | H15: 300 ±
C16: IMPORTE ESTIMADO | I16: =SUM(I2:I14) -> 209976.25

Sheet Estim LOTE 5 Android Old 
A1: DESCRIPCION DE ARTICULO | B1: PERFIL (a borrar en futuro) Directivo, Intermedio Administrativo/Tecnicos | C1: PRECIO SALIDA lic hw 2018 (a eliminar) | D1: Precio Licitacion Vigente | E1: PVP Prov 1 | F1: PVP Prov 2 | G1: PRECIO SALIDA Lic HW 2020 | H1: UDS. REFERENCIA | I1: IMPORTE TOTAL REFERENCIA | J1: ARTICULO CON CRITERIO VALORABLE AMPLIACION GARANTIA | K1: PROVEEDOR - PRECIO UNITARIO OFERTADO
A2: Smartphone Android gama Alta . Procesador Exynos 990 Octa-core (2.73 GHz, 2.6 GHz), 64-bits . Pantalla 6.2” Full Rectangle, dinamic AMOLED 2X, HDR+ . Bluetooth 5.0, USB 5.0, Wi-Fi, Wi-Fi Direct, GPS . Cámara 64Mpx trasera, 10MPx frontal . Memoria 8GB RAM, 128GB Almacenamiento interno, (microSD hasta 1TB) . NanoSIM, eSIM, Dual-SIM, NFC . EE (Samsung Enterprise Edition) | B2: Directivo | C2: 468 | D2: 535.17 | E2: 525 | F2: 536 | G2: 540 | H2: 69 | I2: =G2*H2 -> 37260 | J2: SI | K2: ="-" -> - | L2: Directivo
A3: Funda trasera para smartphone gama alta tipo de gel de silicona o equivalente, color transparente. | B3: Directivo | C3: 5 | D3: 2.34 | G3: 2.5 | H3: 69 | I3: =G3*H3 -> 172.5 | J3: SI | K3: ="-" -> - | L3: Intermedio
A4: Smartphone Android gama media . Procesador Octa-core 2.3 GHz, 64-bits . Pantalla 5.2”, Full Rectangle, FHD+ (2340 x 1080) Super AMOLED . Bluetooth 5.0, USB 5.0, Wi-Fi, Wi-Fi Direct,GPS . Cámara 25Mpx trasera, 8MPx frontal, Full HD . Memoria 4GB RAM, 128GB Almacenamiento interno (MicroSD hasta 512GB ) . NanoSim, Dual-SIM, NFC . EE (Samsung Enterprise Edition) | B4: Intermedio | C4: 288 | D4: 235.04 | E4: 235 | F4: 268 | G4: 270 | H4: 572 | I4: =G4*H4 -> 154440 | J4: SI | K4: ="-" -> - | L4: Administrativo/Tecnicos
A5: Funda Rugerizada para smartphone gama Media | G5: 16 | H5: =H4*0.6 -> 343.2 | I5: =G5*H5 -> 5491.2 | J5: SI
A6: Funda trasera para smartphone gama media tipo de gel de silicona o equivalente, color transparente. | B6: Intermedio | C6: 5 | D6: 2.34 | G6: 2.5 | H6: =H4-H5 -> 228.8 | I6: =G6*H6 -> 572 | J6: SI | K6: ="-" -> -
A7: Smartphone Android gama entrada . Procesador Octa-core 1.9 GHz (Exynos) . Pantalla 5,2”, Full Rectangle, HD, Super AMOLED . Bluetooth 4.2, Wi-Fi 802.11 a/b/g/n/ac (2.4/5GHz), GPS . Cámara: 13Mpx trasera, 5Mpx frontal . Memoria; 2GB RAM, 32GB Almacenamiento interno (microSD hasta 512GB) . NanoSIM, Dual-SIM, NFC . EE (Samsung Enterprise Edition) | B7: Administrativo/Tecnicos | C7: 173 | D7: 124 | E7: 124 | F7: No dispone | G7: 190 | H7: 741 | I7: =G7*H7 -> 140790 | J7: SI | K7: ="-" -> -
A8: Funda trasera para smartphone gama entrada tipo de gel de silicona o equivalente, color transparente. | B8: Administrativo/Tecnicos | C8: 5 | D8: 4 | G8: 4 | H8: 741 | I8: =G8*H8 -> 2964 | J8: SI | K8: ="-" -> -
A9: Tablet Android . Procesador Octa-core 2.7 GHz,1.7 GHz . Pantalla 8.0”, 1920 x 1200 (WUXGA), PLS TFT LCD . Wi-Fi 802.11 a/b/g/n/ac/ax (2.4/5GHz), HE80, MIMO . Cámara: 13Mpx trasera, 5Mpx frontal . Memoria; 4GB RAM, 64GB Almacenamiento interno (microSD hasta 1TB) . NanoSIM, NFC with EMV Level1, No battery Mode, DeX . IP68 Pen . Bateria 5,050mAh . EE (Samsung Enterprise Edition) | B9: Administrativo/Tecnicos | G9: 450 | I9: =G9*H9 -> 0 | J9: SI | K9: -
A10: Servicio Express Entrega Peninsula y Baleares Entrega Next Business Day antes de las 10.00 AM de un dispositivo cuando así se requiera por el peticionario. | C10: 35 | G10: 35 | H10: =SUM(H2+H4+H7+H9)*0.05 -> 69.1 | I10: =G10*H10 -> 2418.5 | J10: NO | K10: ="-" -> -
A11: Servicio Express Entrega Canarias Entrega en 24 Horas de un dispositivo cuando así se requiera por el peticionario. | C11: 40 | G11: 40 | H11: =SUM(H2+H4+H7+H9)*0.05 -> 69.1 | I11: =G11*H11 -> 2764 | J11: NO | K11: ="-" -> -
A12: Retirada /reciclaje Recogida según propuesta del licitador de equipos de la tipología de este lote, de forma regular, procediendo a custodiarlos durante el tiempo que se fije (un mes a priori) y posteriormente realizar el borrado confidencial de la información según procedimento que se indique. Se deberá aportar el destino certificado de los equipos a fines de interés social. | C12: 30 | G12: 30 | I12: =G12*H12 -> 0 | J12: SI | K12: ="-" -> -
C14: IMPORTE ESTIMADO | I14: =SUM(I1:I12) -> 346872.2

Sheet Hoja Pedido
B5: PEDIDO EQUIPOS INFORMATICOS | E5: versión JUNIO 2017 | G5: Nº PEDIDO CLIENTE:
B8: DATOS DEL SOLICITANTE DEL MATERIAL
C10: Nombre solicitante
C11: Nombre usuario final | G11: CECO/PEP/Orden
C12: Empresa usuario | D12: (seleccionar del desplegable) | G12: Explotación
C13: CIF | D13: =IFERROR(IF(VLOOKUP(D12,CLIENTES!$A:$C,3,0)="NIF","",VLOOKUP(D12,CLIENTES!$A:$C,3,0)),"") | G13: Fecha
B15: DIRECCIÓN DE ENVÍO DE FACTURA (rellenar sólo si es diferente a la dirección fiscal)
C17: Empresa | D17: (seleccionar del desplegable) | G17: CIF | H17: =IFERROR(IF(VLOOKUP(D17,CLIENTES!$A:$C,3,0)="NIF","",VLOOKUP(D17,CLIENTES!$A:$C,3,0)),"")
C18: Dirección | G18: C.P.
C19: Población | G19: Provincia
B21: DIRECCIÓN DE ENVIO DEL MATERIAL
C23: Empresa | D23: (seleccionar del desplegable) | G23: E-mail
C24: Dirección | G24: C.P.
C27: Población | G27: Provincia
C28: Persona Contacto | G28: Telf.
B30: DESCRIPCIÓN DEL MATERIAL SOLICITADO
C31: CANTIDAD | D31: Cod. eProcureo | E31: P.NUMBER | F31: DESCRIPCIÓN | I31: PRECIO
D32: Cod. eProcureo | H32: MARCA
D33: =+IF('Carrito Compra'!B2<>"",CONCATENATE('Carrito Compra'!B2,'Carrito Compra'!C2),"") | E33: =+IF('Carrito Compra'!B2<>"",'Carrito Compra'!D2,"") | F33: =+IF(E33<>"",'Carrito Compra'!E2,"") | H33: =+IF(E33<>"",'Carrito Compra'!F2,"") | I33: =+IF(E33<>"",'Carrito Compra'!G2,) -> 0
D34: =+IF('Carrito Compra'!B3<>"",CONCATENATE('Carrito Compra'!B3,'Carrito Compra'!C3),"") | E34: =+IF('Carrito Compra'!B3<>"",'Carrito Compra'!D3,"") | F34: =+IF(E34<>"",'Carrito Compra'!E3,"") | H34: =+IF(E34<>"",'Carrito Compra'!F3,"") | I34: =+IF(E34<>"",'Carrito Compra'!G3,) -> 0
D35: =+IF('Carrito Compra'!B4<>"",CONCATENATE('Carrito Compra'!B4,'Carrito Compra'!C4),"") | E35: =+IF('Carrito Compra'!B4<>"",'Carrito Compra'!D4,"") | F35: =+IF(E35<>"",'Carrito Compra'!E4,"") | H35: =+IF(E35<>"",'Carrito Compra'!F4,"") | I35: =+IF(E35<>"",'Carrito Compra'!G4,) -> 0
D36: =+IF('Carrito Compra'!B5<>"",CONCATENATE('Carrito Compra'!B5,'Carrito Compra'!C5),"") | E36: =+IF('Carrito Compra'!B5<>"",'Carrito Compra'!D5,"") | F36: =+IF(E36<>"",'Carrito Compra'!E5,"") | H36: =+IF(E36<>"",'Carrito Compra'!F5,"") | I36: =+IF(E36<>"",'Carrito Compra'!G5,) -> 0
D37: =+IF('Carrito Compra'!B6<>"",CONCATENATE('Carrito Compra'!B6,'Carrito Compra'!C6),"") | E37: =+IF('Carrito Compra'!B6<>"",'Carrito Compra'!D6,"") | F37: =+IF(E37<>"",'Carrito Compra'!E6,"") | H37: =+IF(E37<>"",'Carrito Compra'!F6,"") | I37: =+IF(E37<>"",'Carrito Compra'!G6,) -> 0
D38: =+IF('Carrito Compra'!B7<>"",CONCATENATE('Carrito Compra'!B7,'Carrito Compra'!C7),"") | E38: =+IF('Carrito Compra'!B7<>"",'Carrito Compra'!D7,"") | F38: =+IF(E38<>"",'Carrito Compra'!E7,"") | H38: =+IF(E38<>"",'Carrito Compra'!F7,"") | I38: =+IF(E38<>"",'Carrito Compra'!G7,) -> 0
D39: =+IF('Carrito Compra'!B8<>"",CONCATENATE('Carrito Compra'!B8,'Carrito Compra'!C8),"") | E39: =+IF('Carrito Compra'!B8<>"",'Carrito Compra'!D8,"") | F39: =+IF(E39<>"",'Carrito Compra'!E8,"") | H39: =+IF(E39<>"",'Carrito Compra'!F8,"") | I39: =+IF(E39<>"",'Carrito Compra'!G8,) -> 0
D40: =+IF('Carrito Compra'!B9<>"",CONCATENATE('Carrito Compra'!B9,'Carrito Compra'!C9),"") | E40: =+IF('Carrito Compra'!B9<>"",'Carrito Compra'!D9,"") | F40: =+IF(E40<>"",'Carrito Compra'!E9,"") | H40: =+IF(E40<>"",'Carrito Compra'!F9,"") | I40: =+IF(E40<>"",'Carrito Compra'!G9,) -> 0
D41: =+IF('Carrito Compra'!B10<>"",CONCATENATE('Carrito Compra'!B10,'Carrito Compra'!C10),"") | E41: =+IF('Carrito Compra'!B10<>"",'Carrito Compra'!D10,"") | F41: =+IF(E41<>"",'Carrito Compra'!E10,"") | H41: =+IF(E41<>"",'Carrito Compra'!F10,"") | I41: =+IF(E41<>"",'Carrito Compra'!G10,) -> 0
D42: =+IF('Carrito Compra'!B11<>"",CONCATENATE('Carrito Compra'!B11,'Carrito Compra'!C11),"") | E42: =+IF('Carrito Compra'!B11<>"",'Carrito Compra'!D11,"") | F42: =+IF(E42<>"",'Carrito Compra'!E11,"") | H42: =+IF(E42<>"",'Carrito Compra'!F11,"") | I42: =+IF(E42<>"",'Carrito Compra'!G11,) -> 0
D43: =+IF('Carrito Compra'!B12<>"",CONCATENATE('Carrito Compra'!B12,'Carrito Compra'!C12),"") | E43: =+IF('Carrito Compra'!B12<>"",'Carrito Compra'!D12,"") | F43: =+IF(E43<>"",'Carrito Compra'!E12,"") | H43: =+IF(E43<>"",'Carrito Compra'!F12,"") | I43: =+IF(E43<>"",'Carrito Compra'!G12,) -> 0
D44: =+IF('Carrito Compra'!B13<>"",CONCATENATE('Carrito Compra'!B13,'Carrito Compra'!C13),"") | E44: =+IF('Carrito Compra'!B13<>"",'Carrito Compra'!D13,"") | F44: =+IF(E44<>"",'Carrito Compra'!E13,"") | H44: =+IF(E44<>"",'Carrito Compra'!F13,"") | I44: =+IF(E44<>"",'Carrito Compra'!G13,) -> 0
... D55: =+IF('Carrito Compra'!B24<>"",CONCATENATE('Carrito Compra'!B24,'Carrito Compra'!C24),"") | E55: =+IF('Carrito Compra'!B24<>"",'Carrito Compra'!D24,"") | F55: =+IF(E55<>"",'Carrito Compra'!E24,"") | H55: =+IF(E55<>"",'Carrito Compra'!F24,"") | I55: =+IF(E55<>"",'Carrito Compra'!G24,) -> 0
B57: NOTAS:
C58: Para consultas referentes a los equipos pongase en contacto con el departamento de Gestión de Compras a través de desi@logistium.es
B59: Observaciones:
C62: WO
C63: TAS MAQUETACIÓN
C64: TAS CGP
C65: TAS INSTALACIÓN
C66: USUARIO
C67: SEDE
...

Sheet Carrito Compra
B1: VENTA | H1: COMPRA | K1: Margen ok?
A2: 10 | B2: =IFERROR(VLOOKUP(CONCATENATE("x-",A2),#REF!,4,0),"") | C2: =IFERROR(VLOOKUP(CONCATENATE("x-",A2),#REF!,5,0),"") | D2: =IFERROR(VLOOKUP(CONCATENATE("x-",A2),#REF!,6,0),"") | E2: =IFERROR(VLOOKUP(CONCATENATE("x-",A2),#REF!,7,0),"") | F2: =IFERROR(VLOOKUP(CONCATENATE("x-",A2),#REF!,3,0),"") | G2: =IFERROR(VLOOKUP(CONCATENATE("x-",A2),#REF!,8,0),"") | H2: =IFERROR(VLOOKUP(CONCATENATE(B2,C2),#REF!,16,0),"") | I2: =IFERROR((G2-H2)/G2,"") | J2: =IFERROR(VLOOKUP(CONCATENATE(B2,C2),#REF!,15,0),"") | K2: =IF(J2="","",IF(J2-I2<0.01,"ok","NO"))
A3: 20 | B3: =IFERROR(VLOOKUP(CONCATENATE("x-",A3),#REF!,4,0),"") | C3: =IFERROR(VLOOKUP(CONCATENATE("x-",A3),#REF!,5,0),"") | D3: =IFERROR(VLOOKUP(CONCATENATE("x-",A3),#REF!,6,0),"") | E3: =IFERROR(VLOOKUP(CONCATENATE("x-",A3),#REF!,7,0),"") | F3: =IFERROR(VLOOKUP(CONCATENATE("x-",A3),#REF!,3,0),"") | G3: =IFERROR(VLOOKUP(CONCATENATE("x-",A3),#REF!,8,0),"") | H3: =IFERROR(VLOOKUP(CONCATENATE(B3,C3),#REF!,16,0),"") | I3: =IFERROR((G3-H3)/G3,"") | J3: =IFERROR(VLOOKUP(CONCATENATE(B3,C3),#REF!,15,0),"") | K3: =IF(J3="","",IF(J3-I3<0.01,"ok","NO"))
A4: 30 | B4: =IFERROR(VLOOKUP(CONCATENATE("x-",A4),#REF!,4,0),"") | C4: =IFERROR(VLOOKUP(CONCATENATE("x-",A4),#REF!,5,0),"") | D4: =IFERROR(VLOOKUP(CONCATENATE("x-",A4),#REF!,6,0),"") | E4: =IFERROR(VLOOKUP(CONCATENATE("x-",A4),#REF!,7,0),"") | F4: =IFERROR(VLOOKUP(CONCATENATE("x-",A4),#REF!,3,0),"") | G4: =IFERROR(VLOOKUP(CONCATENATE("x-",A4),#REF!,8,0),"") | H4: =IFERROR(VLOOKUP(CONCATENATE(B4,C4),#REF!,16,0),"") | I4: =IFERROR((G4-H4)/G4,"") | J4: =IFERROR(VLOOKUP(CONCATENATE(B4,C4),#REF!,15,0),"") | K4: =IF(J4="","",IF(J4-I4<0.01,"ok","NO"))
A5: 40 | B5: =IFERROR(VLOOKUP(CONCATENATE("x-",A5),#REF!,4,0),"") | C5: =IFERROR(VLOOKUP(CONCATENATE("x-",A5),#REF!,5,0),"") | D5: =IFERROR(VLOOKUP(CONCATENATE("x-",A5),#REF!,6,0),"") | E5: =IFERROR(VLOOKUP(CONCATENATE("x-",A5),#REF!,7,0),"") | F5: =IFERROR(VLOOKUP(CONCATENATE("x-",A5),#REF!,3,0),"") | G5: =IFERROR(VLOOKUP(CONCATENATE("x-",A5),#REF!,8,0),"") | H5: =IFERROR(VLOOKUP(CONCATENATE(B5,C5),#REF!,16,0),"") | I5: =IFERROR((G5-H5)/G5,"") | J5: =IFERROR(VLOOKUP(CONCATENATE(B5,C5),#REF!,15,0),"") | K5: =IF(J5="","",IF(J5-I5<0.01,"ok","NO"))
A6: 50 | B6: =IFERROR(VLOOKUP(CONCATENATE("x-",A6),#REF!,4,0),"") | C6: =IFERROR(VLOOKUP(CONCATENATE("x-",A6),#REF!,5,0),"") | D6: =IFERROR(VLOOKUP(CONCATENATE("x-",A6),#REF!,6,0),"") | E6: =IFERROR(VLOOKUP(CONCATENATE("x-",A6),#REF!,7,0),"") | F6: =IFERROR(VLOOKUP(CONCATENATE("x-",A6),#REF!,3,0),"") | G6: =IFERROR(VLOOKUP(CONCATENATE("x-",A6),#REF!,8,0),"") | H6: =IFERROR(VLOOKUP(CONCATENATE(B6,C6),#REF!,16,0),"") | I6: =IFERROR((G6-H6)/G6,"") | J6: =IFERROR(VLOOKUP(CONCATENATE(B6,C6),#REF!,15,0),"") | K6: =IF(J6="","",IF(J6-I6<0.01,"ok","NO"))
A7: 60 | B7: =IFERROR(VLOOKUP(CONCATENATE("x-",A7),#REF!,4,0),"") | C7: =IFERROR(VLOOKUP(CONCATENATE("x-",A7),#REF!,5,0),"") | D7: =IFERROR(VLOOKUP(CONCATENATE("x-",A7),#REF!,6,0),"") | E7: =IFERROR(VLOOKUP(CONCATENATE("x-",A7),#REF!,7,0),"") | F7: =IFERROR(VLOOKUP(CONCATENATE("x-",A7),#REF!,3,0),"") | G7: =IFERROR(VLOOKUP(CONCATENATE("x-",A7),#REF!,8,0),"") | H7: =IFERROR(VLOOKUP(CONCATENATE(B7,C7),#REF!,16,0),"") | I7: =IFERROR((G7-H7)/G7,"") | J7: =IFERROR(VLOOKUP(CONCATENATE(B7,C7),#REF!,15,0),"") | K7: =IF(J7="","",IF(J7-I7<0.01,"ok","NO"))
A8: 70 | B8: =IFERROR(VLOOKUP(CONCATENATE("x-",A8),#REF!,4,0),"") | C8: =IFERROR(VLOOKUP(CONCATENATE("x-",A8),#REF!,5,0),"") | D8: =IFERROR(VLOOKUP(CONCATENATE("x-",A8),#REF!,6,0),"") | E8: =IFERROR(VLOOKUP(CONCATENATE("x-",A8),#REF!,7,0),"") | F8: =IFERROR(VLOOKUP(CONCATENATE("x-",A8),#REF!,3,0),"") | G8: =IFERROR(VLOOKUP(CONCATENATE("x-",A8),#REF!,8,0),"") | H8: =IFERROR(VLOOKUP(CONCATENATE(B8,C8),#REF!,16,0),"") | I8: =IFERROR((G8-H8)/G8,"") | J8: =IFERROR(VLOOKUP(CONCATENATE(B8,C8),#REF!,15,0),"") | K8: =IF(J8="","",IF(J8-I8<0.01,"ok","NO"))
A9: 80 | B9: =IFERROR(VLOOKUP(CONCATENATE("x-",A9),#REF!,4,0),"") | C9: =IFERROR(VLOOKUP(CONCATENATE("x-",A9),#REF!,5,0),"") | D9: =IFERROR(VLOOKUP(CONCATENATE("x-",A9),#REF!,6,0),"") | E9: =IFERROR(VLOOKUP(CONCATENATE("x-",A9),#REF!,7,0),"") | F9: =IFERROR(VLOOKUP(CONCATENATE("x-",A9),#REF!,3,0),"") | G9: =IFERROR(VLOOKUP(CONCATENATE("x-",A9),#REF!,8,0),"") | H9: =IFERROR(VLOOKUP(CONCATENATE(B9,C9),#REF!,16,0),"") | I9: =IFERROR((G9-H9)/G9,"") | J9: =IFERROR(VLOOKUP(CONCATENATE(B9,C9),#REF!,15,0),"") | K9: =IF(J9="","",IF(J9-I9<0.01,"ok","NO"))
A10: 90 | B10: =IFERROR(VLOOKUP(CONCATENATE("x-",A10),#REF!,4,0),"") | C10: =IFERROR(VLOOKUP(CONCATENATE("x-",A10),#REF!,5,0),"") | D10: =IFERROR(VLOOKUP(CONCATENATE("x-",A10),#REF!,6,0),"") | E10: =IFERROR(VLOOKUP(CONCATENATE("x-",A10),#REF!,7,0),"") | F10: =IFERROR(VLOOKUP(CONCATENATE("x-",A10),#REF!,3,0),"") | G10: =IFERROR(VLOOKUP(CONCATENATE("x-",A10),#REF!,8,0),"") | H10: =IFERROR(VLOOKUP(CONCATENATE(B10,C10),#REF!,16,0),"") | I10: =IFERROR((G10-H10)/G10,"") | J10: =IFERROR(VLOOKUP(CONCATENATE(B10,C10),#REF!,15,0),"") | K10: =IF(J10="","",IF(J10-I10<0.01,"ok","NO"))
A11: 100 | B11: =IFERROR(VLOOKUP(CONCATENATE("x-",A11),#REF!,4,0),"") | C11: =IFERROR(VLOOKUP(CONCATENATE("x-",A11),#REF!,5,0),"") | D11: =IFERROR(VLOOKUP(CONCATENATE("x-",A11),#REF!,6,0),"") | E11: =IFERROR(VLOOKUP(CONCATENATE("x-",A11),#REF!,7,0),"") | F11: =IFERROR(VLOOKUP(CONCATENATE("x-",A11),#REF!,3,0),"") | G11: =IFERROR(VLOOKUP(CONCATENATE("x-",A11),#REF!,8,0),"") | H11: =IFERROR(VLOOKUP(CONCATENATE(B11,C11),#REF!,16,0),"") | I11: =IFERROR((G11-H11)/G11,"") | J11: =IFERROR(VLOOKUP(CONCATENATE(B11,C11),#REF!,15,0),"") | K11: =IF(J11="","",IF(J11-I11<0.01,"ok","NO"))
A12: 110 | B12: =IFERROR(VLOOKUP(CONCATENATE("x-",A12),#REF!,4,0),"") | C12: =IFERROR(VLOOKUP(CONCATENATE("x-",A12),#REF!,5,0),"") | D12: =IFERROR(VLOOKUP(CONCATENATE("x-",A12),#REF!,6,0),"") | E12: =IFERROR(VLOOKUP(CONCATENATE("x-",A12),#REF!,7,0),"") | F12: =IFERROR(VLOOKUP(CONCATENATE("x-",A12),#REF!,3,0),"") | G12: =IFERROR(VLOOKUP(CONCATENATE("x-",A12),#REF!,8,0),"") | H12: =IFERROR(VLOOKUP(CONCATENATE(B12,C12),#REF!,16,0),"") | I12: =IFERROR((G12-H12)/G12,"") | J12: =IFERROR(VLOOKUP(CONCATENATE(B12,C12),#REF!,15,0),"") | K12: =IF(J12="","",IF(J12-I12<0.01,"ok","NO"))
A13: 120 | B13: =IFERROR(VLOOKUP(CONCATENATE("x-",A13),#REF!,4,0),"") | C13: =IFERROR(VLOOKUP(CONCATENATE("x-",A13),#REF!,5,0),"") | D13: =IFERROR(VLOOKUP(CONCATENATE("x-",A13),#REF!,6,0),"") | E13: =IFERROR(VLOOKUP(CONCATENATE("x-",A13),#REF!,7,0),"") | F13: =IFERROR(VLOOKUP(CONCATENATE("x-",A13),#REF!,3,0),"") | G13: =IFERROR(VLOOKUP(CONCATENATE("x-",A13),#REF!,8,0),"") | H13: =IFERROR(VLOOKUP(CONCATENATE(B13,C13),#REF!,16,0),"") | I13: =IFERROR((G13-H13)/G13,"") | J13: =IFERROR(VLOOKUP(CONCATENATE(B13,C13),#REF!,15,0),"") | K13: =IF(J13="","",IF(J13-I13<0.01,"ok","NO"))
... A34: 330 | B34: =IFERROR(VLOOKUP(CONCATENATE("x-",A34),#REF!,4,0),"") | C34: =IFERROR(VLOOKUP(CONCATENATE("x-",A34),#REF!,5,0),"") | D34: =IFERROR(VLOOKUP(CONCATENATE("x-",A34),#REF!,6,0),"") | E34: =IFERROR(VLOOKUP(CONCATENATE("x-",A34),#REF!,7,0),"") | F34: =IFERROR(VLOOKUP(CONCATENATE("x-",A34),#REF!,3,0),"") | G34: =IFERROR(VLOOKUP(CONCATENATE("x-",A34),#REF!,8,0),"") | H34: =IFERROR(VLOOKUP(CONCATENATE(B34,C34),#REF!,16,0),"") | I34: =IFERROR((G34-H34)/G34,"") | J34: =IFERROR(VLOOKUP(CONCATENATE(B34,C34),#REF!,15,0),"") | K34: =IF(J34="","",IF(J34-I34<0.01,"ok","NO"))

Sheet Control renting
A1: Nº PDO.LOGISTIUM | B1: Nº PDO.CLIENTE | C1: CODSAP | D1: EMPRESA | E1: CENTRO DE COSTE | F1: USUARIO | G1: Inventario | H1: Precio Venta | I1: precio compra | J1: PROVEEDOR | K1: PEDIDO ECONOCOM | L1: cto. Ecs | M1: factura proveedor | N1: Margen ok? | Q1: 0 | R1: 0 | AK1: 1 | AL1: 2 | AM1: 3 | AN1: 4 | AO1: 5 | AP1: 6 | AQ1: 7 | AR1: 8 | AS1: 9 | AT1: 10 | AU1: 11 | AV1: 12 | AW1: 13 | AX1: 14 | AY1: 15 | AZ1: 16 | BA1: 17 | BB1: 18 | BC1: 19 | BD1: 20 | BE1: 21 | BF1: 22 | BG1: 23 | BH1: 24 | BI1: 25
O2: 0 | Q2: 0 | R2: 2 | S2: X | AA2: 2 | AB2: 0 | AG2: 0 | AJ2: 0 | AK2: 0 | AL2: 0 | AM2: 0 | AN2: 0 | AO2: 0 | AP2: 0 | AQ2: 0 | AR2: 0 | AS2: 0 | AT2: 0 | AU2: 0 | AV2: 0 | AW2: 0 | AX2: 0 | AY2: 0 | AZ2: 0 | BA2: 0 | BB2: 0 | BC2: 0 | BD2: 0 | BE2: 0 | BF2: 0 | BG2: 0 | BH2: 0 | BI2: 0
O3: 1 | AA3: 3 | AB3: 0 | AG3: 0 | AJ3: 0 | AK3: 0 | AL3: 0 | AM3: 0 | AN3: 0 | AO3: 0 | AP3: 0 | AQ3: 0 | AR3: 0 | AS3: 0 | AT3: 0 | AU3: 0 | AV3: 0 | AW3: 0 | AX3: 0 | AY3: 0 | AZ3: 0 | BA3: 0 | BB3: 0 | BC3: 0 | BD3: 0 | BE3: 0 | BF3: 0 | BG3: 0 | BH3: 0 | BI3: 0
O4: 2 | AA4: 4 | AB4: 0 | AG4: 0 | AJ4: 0 | AK4: 0 | AL4: 0 | AM4: 0 | AN4: 0 | AO4: 0 | AP4: 0 | AQ4: 0 | AR4: 0 | AS4: 0 | AT4: 0 | AU4: 0 | AV4: 0 | AW4: 0 | AX4: 0 | AY4: 0 | AZ4: 0 | BA4: 0 | BB4: 0 | BC4: 0 | BD4: 0 | BE4: 0 | BF4: 0 | BG4: 0 | BH4: 0 | BI4: 0
O5: 3 | AA5: 5 | AB5: 0 | AG5: 0 | AJ5: 0 | AK5: 0 | AL5: 0 | AM5: 0 | AN5: 0 | AO5: 0 | AP5: 0 | AQ5: 0 | AR5: 0 | AS5: 0 | AT5: 0 | AU5: 0 | AV5: 0 | AW5: 0 | AX5: 0 | AY5: 0 | AZ5: 0 | BA5: 0 | BB5: 0 | BC5: 0 | BD5: 0 | BE5: 0 | BF5: 0 | BG5: 0 | BH5: 0 | BI5: 0
O6: 4 | AA6: 6 | AB6: 0 | AG6: 0 | AJ6: 0 | AK6: 0 | AL6: 0 | AM6: 0 | AN6: 0 | AO6: 0 | AP6: 0 | AQ6: 0 | AR6: 0 | AS6: 0 | AT6: 0 | AU6: 0 | AV6: 0 | AW6: 0 | AX6: 0 | AY6: 0 | AZ6: 0 | BA6: 0 | BB6: 0 | BC6: 0 | BD6: 0 | BE6: 0 | BF6: 0 | BG6: 0 | BH6: 0 | BI6: 0
O7: 5 | AA7: 7 | AB7: 0 | AG7: 0 | AJ7: 0 | AK7: 0 | AL7: 0 | AM7: 0 | AN7: 0 | AO7: 0 | AP7: 0 | AQ7: 0 | AR7: 0 | AS7: 0 | AT7: 0 | AU7: 0 | AV7: 0 | AW7: 0 | AX7: 0 | AY7: 0 | AZ7: 0 | BA7: 0 | BB7: 0 | BC7: 0 | BD7: 0 | BE7: 0 | BF7: 0 | BG7: 0 | BH7: 0 | BI7: 0
O8: 6 | AA8: 8 | AB8: 0 | AG8: 0 | AJ8: 0 | AK8: 0 | AL8: 0 | AM8: 0 | AN8: 0 | AO8: 0 | AP8: 0 | AQ8: 0 | AR8: 0 | AS8: 0 | AT8: 0 | AU8: 0 | AV8: 0 | AW8: 0 | AX8: 0 | AY8: 0 | AZ8: 0 | BA8: 0 | BB8: 0 | BC8: 0 | BD8: 0 | BE8: 0 | BF8: 0 | BG8: 0 | BH8: 0 | BI8: 0
O9: 7 | AA9: 9 | AB9: 0 | AG9: 0 | AJ9: 0 | AK9: 0 | AL9: 0 | AM9: 0 | AN9: 0 | AO9: 0 | AP9: 0 | AQ9: 0 | AR9: 0 | AS9: 0 | AT9: 0 | AU9: 0 | AV9: 0 | AW9: 0 | AX9: 0 | AY9: 0 | AZ9: 0 | BA9: 0 | BB9: 0 | BC9: 0 | BD9: 0 | BE9: 0 | BF9: 0 | BG9: 0 | BH9: 0 | BI9: 0
O10: 8 | AA10: 10 | AB10: 0 | AG10: 0 | AJ10: 0 | AK10: 0 | AL10: 0 | AM10: 0 | AN10: 0 | AO10: 0 | AP10: 0 | AQ10: 0 | AR10: 0 | AS10: 0 | AT10: 0 | AU10: 0 | AV10: 0 | AW10: 0 | AX10: 0 | AY10: 0 | AZ10: 0 | BA10: 0 | BB10: 0 | BC10: 0 | BD10: 0 | BE10: 0 | BF10: 0 | BG10: 0 | BH10: 0 | BI10: 0
O11: 9 | AA11: 11 | AB11: 0 | AG11: 0 | AJ11: 0 | AK11: 0 | AL11: 0 | AM11: 0 | AN11: 0 | AO11: 0 | AP11: 0 | AQ11: 0 | AR11: 0 | AS11: 0 | AT11: 0 | AU11: 0 | AV11: 0 | AW11: 0 | AX11: 0 | AY11: 0 | AZ11: 0 | BA11: 0 | BB11: 0 | BC11: 0 | BD11: 0 | BE11: 0 | BF11: 0 | BG11: 0 | BH11: 0 | BI11: 0
O12: 10 | AA12: 12 | AB12: 0 | AG12: 0 | AJ12: 0 | AK12: 0 | AL12: 0 | AM12: 0 | AN12: 0 | AO12: 0 | AP12: 0 | AQ12: 0 | AR12: 0 | AS12: 0 | AT12: 0 | AU12: 0 | AV12: 0 | AW12: 0 | AX12: 0 | AY12: 0 | AZ12: 0 | BA12: 0 | BB12: 0 | BC12: 0 | BD12: 0 | BE12: 0 | BF12: 0 | BG12: 0 | BH12: 0 | BI12: 0
O13: 11 | AA13: 13 | AB13: 0 | AG13: 0 | AJ13: 0 | AK13: 0 | AL13: 0 | AM13: 0 | AN13: 0 | AO13: 0 | AP13: 0 | AQ13: 0 | AR13: 0 | AS13: 0 | AT13: 0 | AU13: 0 | AV13: 0 | AW13: 0 | AX13: 0 | AY13: 0 | AZ13: 0 | BA13: 0 | BB13: 0 | BC13: 0 | BD13: 0 | BE13: 0 | BF13: 0 | BG13: 0 | BH13: 0 | BI13: 0
O14: 12 | AA14: 14 | AB14: 0 | AG14: 0 | AJ14: 0 | AK14: 0 | AL14: 0 | AM14: 0 | AN14: 0 | AO14: 0 | AP14: 0 | AQ14: 0 | AR14: 0 | AS14: 0 | AT14: 0 | AU14: 0 | AV14: 0 | AW14: 0 | AX14: 0 | AY14: 0 | AZ14: 0 | BA14: 0 | BB14: 0 | BC14: 0 | BD14: 0 | BE14: 0 | BF14: 0 | BG14: 0 | BH14: 0 | BI14: 0
... O24: 22 | AA24: 24 | AB24: 0 | AG24: 0 | AJ24: 0 | AK24: 0 | AL24: 0 | AM24: 0 | AN24: 0 | AO24: 0 | AP24: 0 | AQ24: 0 | AR24: 0 | AS24: 0 | AT24: 0 | AU24: 0 | AV24: 0 | AW24: 0 | AX24: 0 | AY24: 0 | AZ24: 0 | BA24: 0 | BB24: 0 | BC24: 0 | BD24: 0 | BE24: 0 | BF24: 0 | BG24: 0 | BH24: 0 | BI24: 0
O25: 23
O26: 24 | AL26: 1 | AM26: 0
O27: 25 | AL27: 2 | AM27: 0 | AO27: 2 | AQ27: 0 | AR27: 0
O28: 26 | AL28: 3 | AM28: 0 | AO28: 3 | AQ28: 0 | AR28: 2
O29: 27 | AL29: 4 | AM29: 0 | AO29: 4
O30: 28 | AL30: 5 | AM30: 0 | AO30: 5
O31: 29 | AL31: 6 | AM31: 0 | AO31: 6
O32: 30 | AL32: 7 | AM32: 0 | AO32: 7
